BEGIN:VCALENDAR
VERSION:2.0
METHOD:PUBLISH
PRODID:-//imacoda.com//SPD-Web-O-Mat//EN
CALSCALE:GREGORIAN
BEGIN:VTIMEZONE
TZID:Europe/Berlin
BEGIN:DAYLIGHT
TZOFFSETFROM:+0100
RRULE:FREQ=YEARLY;BYMONTH=3;BYDAY=-1SU
DTSTART:19810329T020000
TZNAME:MESZ
TZOFFSETTO:+0200
END:DAYLIGHT
BEGIN:STANDARD
TZOFFSETFROM:+0200
RRULE:FREQ=YEARLY;BYMONTH=10;BYDAY=-1SU
DTSTART:19961027T030000
TZNAME:MEZ
TZOFFSETTO:+0100
END:STANDARD
END:VTIMEZONE
BEGIN:VEVENT
UID:20260419T144620Z-00001187257-LULU@www.bayernspd.de
CREATED:20260419T144620Z
LAST-MODIFIED:20260419T144620Z
DTSTAMP:20260419T144620Z
TRANSP:TRANSPARENT
DTSTART;TZID=Europe/Berlin:20260423T190000
DTEND;TZID=Europe/Berlin:20260423T190000
SUMMARY:Ortsvereinssitzung 23.04.2026
LOCATION:Bürgerbüro Markus Rinderspacher\, Melusinenstr. 18\, 81671 Münc
 hen
DESCRIPTION:Termin im Web (SPD Ramersdorf):\nhttps://spd-ramersdorf.de/t
 ermine/?id=1187257
END:VEVENT
END:VCALENDAR
